BEGIN:VCALENDAR
VERSION:2.0
PRODID:-//Islamic Ithna Asheri Association of Edmonton - ECPv6.9.0//NONSGML v1.0//EN
CALSCALE:GREGORIAN
METHOD:PUBLISH
X-WR-CALNAME:Islamic Ithna Asheri Association of Edmonton
X-ORIGINAL-URL:https://www.jammat.org
X-WR-CALDESC:Events for Islamic Ithna Asheri Association of Edmonton
REFRESH-INTERVAL;VALUE=DURATION:PT1H
X-Robots-Tag:noindex
X-PUBLISHED-TTL:PT1H
BEGIN:VTIMEZONE
TZID:America/Edmonton
BEGIN:DAYLIGHT
TZOFFSETFROM:-0700
TZOFFSETTO:-0600
TZNAME:MDT
DTSTART:20250309T090000
END:DAYLIGHT
BEGIN:STANDARD
TZOFFSETFROM:-0600
TZOFFSETTO:-0700
TZNAME:MST
DTSTART:20251102T080000
END:STANDARD
END:VTIMEZONE
BEGIN:VEVENT
DTSTART;TZID=America/Edmonton:20251031T203000
DTEND;TZID=America/Edmonton:20251101T010000
DTSTAMP:20260424T132832
CREATED:20251030T042803Z
LAST-MODIFIED:20251030T043111Z
UID:10000456-1761942600-1761958800@www.jammat.org
SUMMARY:Ghosts & Jinns
DESCRIPTION:Please see the poster above for the exciting joint ISIA and Al Hadi youth event for boys and girls this Friday\, October 31\, including a talk by Sheikh Nabil Awan. \nWe are starting the program at 8:30 p.m. with the youth lecture and then a Q&A\, food will be served. After that the program will run to 1:00 a.m. \nBring your board games\, your consoles\, Uno cards\, or anything you want. Ages from 12+\, this event is mixed. Both ladies and gents are welcome !!! Bring your friends and come have a good time. \n( The ladies will have their own closed off section for their privacy )
URL:https://www.jammat.org/event/boys-games-night-3/
LOCATION:Al Hadi Center\, 15727 100A Ave NW\, Edmonton\, Alberta\, T5P 0L5\, Canada
END:VEVENT
END:VCALENDAR