BEGIN:VCALENDAR
VERSION:2.0
PRODID:-//Islamic Ithna Asheri Association of Edmonton - ECPv6.9.0//NONSGML v1.0//EN
CALSCALE:GREGORIAN
METHOD:PUBLISH
X-ORIGINAL-URL:https://www.jammat.org
X-WR-CALDESC:Events for Islamic Ithna Asheri Association of Edmonton
REFRESH-INTERVAL;VALUE=DURATION:PT1H
X-Robots-Tag:noindex
X-PUBLISHED-TTL:PT1H
BEGIN:VTIMEZONE
TZID:America/Edmonton
BEGIN:DAYLIGHT
TZOFFSETFROM:-0700
TZOFFSETTO:-0600
TZNAME:MDT
DTSTART:20250309T090000
END:DAYLIGHT
BEGIN:STANDARD
TZOFFSETFROM:-0600
TZOFFSETTO:-0700
TZNAME:MST
DTSTART:20251102T080000
END:STANDARD
END:VTIMEZONE
BEGIN:VEVENT
DTSTART;TZID=America/Edmonton:20250522T193000
DTEND;TZID=America/Edmonton:20250522T213000
DTSTAMP:20260420T131418
CREATED:20250521T170349Z
LAST-MODIFIED:20250521T170349Z
UID:10000505-1747942200-1747949400@www.jammat.org
SUMMARY:Chalismu Majlis of Marhuma Munira Moledina
DESCRIPTION:Surah Ya Seen\, Dua Kumayl\, Majlis\, Ziyarat\, Tabarruk
URL:https://www.jammat.org/event/chalismu-majlis-of-marhuma-munira-moledina/
LOCATION:ISIA\, 4307 33 Ave NW\, Edmonton\, AB\, T6L 4H7\, Canada
END:VEVENT
END:VCALENDAR