BEGIN:VCALENDAR
VERSION:2.0
PRODID:-//Islamic Ithna Asheri Association of Edmonton - ECPv6.9.0//NONSGML v1.0//EN
CALSCALE:GREGORIAN
METHOD:PUBLISH
X-ORIGINAL-URL:https://www.jammat.org
X-WR-CALDESC:Events for Islamic Ithna Asheri Association of Edmonton
REFRESH-INTERVAL;VALUE=DURATION:PT1H
X-Robots-Tag:noindex
X-PUBLISHED-TTL:PT1H
BEGIN:VTIMEZONE
TZID:America/Edmonton
BEGIN:DAYLIGHT
TZOFFSETFROM:-0700
TZOFFSETTO:-0600
TZNAME:MDT
DTSTART:20250309T090000
END:DAYLIGHT
BEGIN:STANDARD
TZOFFSETFROM:-0600
TZOFFSETTO:-0700
TZNAME:MST
DTSTART:20251102T080000
END:STANDARD
END:VTIMEZONE
BEGIN:VEVENT
DTSTART;TZID=America/Edmonton:20250518T140000
DTEND;TZID=America/Edmonton:20250518T170000
DTSTAMP:20260419T225206
CREATED:20250514T063640Z
LAST-MODIFIED:20250514T063640Z
UID:10000503-1747576800-1747587600@www.jammat.org
SUMMARY:A Conversation about Mary/Maryam: Mother of Jesus
DESCRIPTION:You’re Invited to a Special Interfaith Dialogue! \nA Common Word Alberta – Christian Muslim Dialogue presents:\n“A Conversation about Mary/Maryam: Mother of Jesus” \nJoin us for an enlightening discussion on the honored figure of Mary/Maryam from both Christian and Muslim perspectives. \nWe’re proud to share that our very own Sheikh Nabil Awan will be representing the Muslim voice in this dialogue\, alongside a speaker from the Christian tradition. \nDate: Sunday\, May 18\, 2025\nTime: 2:00 PM – Registration | 2:30 PM – Dialogue Begins\nLocation: First Mennonite Church\n3650 – 91 Street NW\, Edmonton \nThis is a beautiful opportunity to come together in mutual respect and explore one of the most revered women in both faiths. We hope to see you there!
URL:https://www.jammat.org/event/a-conversation-about-mary-maryam-mother-of-jesus/
LOCATION:First Mennonite Church\, 3650 91 St NW\, Edmonton\, AB\, T6E 6P1\, Canada
END:VEVENT
END:VCALENDAR